BEGIN:VCALENDAR
VERSION:2.0
PRODID:-//AudioTheme 2.3.8
BEGIN:VEVENT
UID:urn:uuid:a09eea3b-7949-4e5e-8f57-30c8ce457907
URL:https://mitchmcvicker.com/concerts/gig-3534/
DTSTART;VALUE=DATE:20001104
SUMMARY:United Methodist Student Movement, Statewide Retreat
LOCATION:United Methodist Student Movement\, Statewide Retreat\, Lewiston\, IL
END:VEVENT
END:VCALENDAR
