BEGIN:VCALENDAR
VERSION:2.0
PRODID:-//AudioTheme 2.3.8
BEGIN:VEVENT
UID:urn:uuid:0b5c2690-8517-4732-b89a-8f137d585c87
URL:https://mitchmcvicker.com/concerts/gig-3532/
DTSTART;VALUE=DATE:20001103
SUMMARY:Galva High School Gym
LOCATION:Galva High School Gym\, Galva\, IL
END:VEVENT
END:VCALENDAR
