BEGIN:VCALENDAR
VERSION:2.0
PRODID:-//AudioTheme 2.3.8
BEGIN:VEVENT
UID:urn:uuid:ed4ca25e-f32d-452b-95b3-1c03106c827a
URL:https://mitchmcvicker.com/concerts/gig-3531/
DTSTART;VALUE=DATE:20001031
SUMMARY:Venue TBD
LOCATION:Venue TBD\, Arkadelphia\, AR
END:VEVENT
END:VCALENDAR
