BEGIN:VCALENDAR
VERSION:2.0
PRODID:-//AudioTheme 2.3.8
BEGIN:VEVENT
UID:urn:uuid:a24a216e-102b-462c-a08a-36bd189f3013
URL:https://mitchmcvicker.com/concerts/gig-3527/
DTSTART;VALUE=DATE:20001030
SUMMARY:Howard Payne University
LOCATION:Howard Payne University\, Brownwood\, TX
END:VEVENT
END:VCALENDAR
