BEGIN:VCALENDAR
VERSION:2.0
PRODID:-//AudioTheme 2.3.8
BEGIN:VEVENT
UID:urn:uuid:ae333b1c-e81d-4947-a95e-dd475f28053d
URL:https://mitchmcvicker.com/concerts/gig-3525/
DTSTART;VALUE=DATE:20001029
SUMMARY:Whitney High School
LOCATION:Whitney High School\, Whitney\, TX
END:VEVENT
END:VCALENDAR
