BEGIN:VCALENDAR
VERSION:2.0
PRODID:-//AudioTheme 2.3.8
BEGIN:VEVENT
UID:urn:uuid:50365b0d-812f-461c-b00b-766232a4f4ac
URL:https://mitchmcvicker.com/concerts/gig-3521/
DTSTART;VALUE=DATE:20001028
SUMMARY:James 1:5 Bookstore Appearance
LOCATION:James 1:5 Bookstore Appearance\, Garland\, TX
END:VEVENT
END:VCALENDAR
