BEGIN:VCALENDAR
VERSION:2.0
PRODID:-//AudioTheme 2.3.8
BEGIN:VEVENT
UID:urn:uuid:ef0ba6d1-7650-4eb2-9ed4-29e81fe3e700
URL:https://mitchmcvicker.com/concerts/gig-3519/
DTSTART;VALUE=DATE:20001027
SUMMARY:One Way Coffeehouse
LOCATION:One Way Coffeehouse\, Norman\, OK
END:VEVENT
END:VCALENDAR
