BEGIN:VCALENDAR
VERSION:2.0
PRODID:-//AudioTheme 2.3.8
BEGIN:VEVENT
UID:urn:uuid:cdac514c-15d4-4f56-8e17-a6c0dd8c2927
URL:https://mitchmcvicker.com/concerts/gig-3517/
DTSTART;VALUE=DATE:20001021
SUMMARY:K.C. Jones Amphitheater
LOCATION:K.C. Jones Amphitheater\, Jackson\, TN
END:VEVENT
END:VCALENDAR
