BEGIN:VCALENDAR
VERSION:2.0
PRODID:-//AudioTheme 2.3.8
BEGIN:VEVENT
UID:urn:uuid:4793c24f-0c4e-40d8-850b-f45a5953657c
URL:https://mitchmcvicker.com/concerts/gig-3515/
DTSTART;VALUE=DATE:20001020
SUMMARY:Lion's Den Coffee House
LOCATION:Lion's Den Coffee House\, Mitchell\, IN
END:VEVENT
END:VCALENDAR
