BEGIN:VCALENDAR
VERSION:2.0
PRODID:-//AudioTheme 2.3.8
BEGIN:VEVENT
UID:urn:uuid:c463387c-a86a-4e68-8459-4eecb4331ed6
URL:https://mitchmcvicker.com/concerts/gig-3513/
DTSTART;VALUE=DATE:20001018
SUMMARY:First Baptist Church
LOCATION:First Baptist Church\, Ocala\, FL
END:VEVENT
END:VCALENDAR
