BEGIN:VCALENDAR
VERSION:2.0
PRODID:-//AudioTheme 2.3.8
BEGIN:VEVENT
UID:urn:uuid:d36b3d76-ccf3-4b16-bf46-d0fd42780886
URL:https://mitchmcvicker.com/concerts/gig-3511/
DTSTART;VALUE=DATE:20001015
SUMMARY:King's Way Christian Church
LOCATION:King's Way Christian Church\, Tallahassee\, FL
END:VEVENT
END:VCALENDAR
