BEGIN:VCALENDAR
VERSION:2.0
PRODID:-//AudioTheme 2.3.8
BEGIN:VEVENT
UID:urn:uuid:a3baeae9-5a3e-4bdf-8fe1-74c10259dd81
URL:https://mitchmcvicker.com/concerts/gig-3509/
DTSTART;VALUE=DATE:20001014
SUMMARY:Palm Harbor United Methodist Church
LOCATION:Palm Harbor United Methodist Church\, Palm Harbor\, FL
END:VEVENT
END:VCALENDAR
