BEGIN:VCALENDAR
VERSION:2.0
PRODID:-//AudioTheme 2.3.8
BEGIN:VEVENT
UID:urn:uuid:186de1a8-ca4f-46f0-a815-800e38c86bc8
URL:https://mitchmcvicker.com/concerts/gig-3507/
DTSTART;VALUE=DATE:20001013
SUMMARY:New Life Church
LOCATION:New Life Church\, Colorado Springs\, CO
END:VEVENT
END:VCALENDAR
