BEGIN:VCALENDAR
VERSION:2.0
PRODID:-//AudioTheme 2.3.8
BEGIN:VEVENT
UID:urn:uuid:24a885c1-4b4f-41b2-93b2-29d66003673b
URL:https://mitchmcvicker.com/concerts/gig-3506/
DTSTART;VALUE=DATE:20001008
SUMMARY:Jammin' Java
LOCATION:Jammin' Java\, Vienna\, VA
END:VEVENT
END:VCALENDAR
