BEGIN:VCALENDAR
VERSION:2.0
PRODID:-//AudioTheme 2.3.8
BEGIN:VEVENT
UID:urn:uuid:a48c90d0-c373-42c9-a944-04c5fe21a054
URL:https://mitchmcvicker.com/concerts/gig-3504/
DTSTART;VALUE=DATE:20001007
SUMMARY:Christian Community College
LOCATION:Christian Community College\, Newark\, NJ
END:VEVENT
END:VCALENDAR
