BEGIN:VCALENDAR
VERSION:2.0
PRODID:-//AudioTheme 2.3.8
BEGIN:VEVENT
UID:urn:uuid:fa0e6693-b8e9-45d0-9ffe-dc86244751d2
URL:https://mitchmcvicker.com/concerts/gig-3502/
DTSTART;VALUE=DATE:20001006
SUMMARY:Messiah  College
LOCATION:Messiah  College\, Grantham\, PA
END:VEVENT
END:VCALENDAR
