BEGIN:VCALENDAR
VERSION:2.0
PRODID:-//AudioTheme 2.3.8
BEGIN:VEVENT
UID:urn:uuid:f194565f-25ab-4bd4-a7c7-24a68a0fb633
URL:https://mitchmcvicker.com/concerts/gig-3500/
DTSTART;VALUE=DATE:20001002
SUMMARY:Colby High School Theater
LOCATION:Colby High School Theater\, Colby\, WI
END:VEVENT
END:VCALENDAR
