BEGIN:VCALENDAR
VERSION:2.0
PRODID:-//AudioTheme 2.3.8
BEGIN:VEVENT
UID:urn:uuid:448a5faf-e4ef-4138-b6e1-4fd349fb125b
URL:https://mitchmcvicker.com/concerts/gig-3498/
DTSTART;VALUE=DATE:20001001
SUMMARY:Sheperd of the Valley/The Loft
LOCATION:Sheperd of the Valley/The Loft\, West Des Moines\, IA
END:VEVENT
END:VCALENDAR
