BEGIN:VCALENDAR
VERSION:2.0
PRODID:-//AudioTheme 2.3.8
BEGIN:VEVENT
UID:urn:uuid:4457705a-e14e-433c-a6da-cc6554a2378c
URL:https://mitchmcvicker.com/concerts/gig-3496/
DTSTART;VALUE=DATE:20000929
SUMMARY:Park Plaza Mall Center
LOCATION:Park Plaza Mall Center\, Oshkosh\, WI
END:VEVENT
END:VCALENDAR
