BEGIN:VCALENDAR
VERSION:2.0
PRODID:-//AudioTheme 2.3.8
BEGIN:VEVENT
UID:urn:uuid:3208d2a3-4c22-4ce5-ab53-ab4888522eec
URL:https://mitchmcvicker.com/concerts/gig-3494/
DTSTART;VALUE=DATE:20000928
SUMMARY:United Lutheran Church
LOCATION:United Lutheran Church\, Redwing\, MN
END:VEVENT
END:VCALENDAR
