BEGIN:VCALENDAR
VERSION:2.0
PRODID:-//AudioTheme 2.3.8
BEGIN:VEVENT
UID:urn:uuid:b4ce4636-6cde-4dc0-bafb-0aec2db4946c
URL:https://mitchmcvicker.com/concerts/gig-3492/
DTSTART;VALUE=DATE:20000920
SUMMARY:Rock Water Cafe
LOCATION:Rock Water Cafe\, Wausau\, WI
END:VEVENT
END:VCALENDAR
