BEGIN:VCALENDAR
VERSION:2.0
PRODID:-//AudioTheme 2.3.8
BEGIN:VEVENT
UID:urn:uuid:6f3bf754-ef1c-429a-97e5-f9afc95b0c64
URL:https://mitchmcvicker.com/concerts/gig-3490/
DTSTART;VALUE=DATE:20000919
SUMMARY:Crossroads Church
LOCATION:Crossroads Church\, Cottage Grove\, MN
END:VEVENT
END:VCALENDAR
