BEGIN:VCALENDAR
VERSION:2.0
PRODID:-//AudioTheme 2.3.8
BEGIN:VEVENT
UID:urn:uuid:928fd90c-e0f4-480a-85f5-472221169a0b
URL:https://mitchmcvicker.com/concerts/gig-3488/
DTSTART;VALUE=DATE:20000916
SUMMARY:Yeshuapolooza 2000
LOCATION:Yeshuapolooza 2000\, Menomonie\, WI
END:VEVENT
END:VCALENDAR
