BEGIN:VCALENDAR
VERSION:2.0
PRODID:-//AudioTheme 2.3.8
BEGIN:VEVENT
UID:urn:uuid:28c59ed3-17f8-468a-ba9e-f29af0c1d4ca
URL:https://mitchmcvicker.com/concerts/gig-3487/
DTSTART;VALUE=DATE:20000915
SUMMARY:Cup O'Joy Coffeehouse
LOCATION:Cup O'Joy Coffeehouse\, Green Bay\, WI
END:VEVENT
END:VCALENDAR
