BEGIN:VCALENDAR
VERSION:2.0
PRODID:-//AudioTheme 2.3.8
BEGIN:VEVENT
UID:urn:uuid:3b77f8ed-4235-4af0-b9c0-3b8561c7f755
URL:https://mitchmcvicker.com/concerts/gig-3485/
DTSTART;VALUE=DATE:20000914
SUMMARY:Western Illinois University-University Union
LOCATION:Western Illinois University-University Union\, Macomb\, IL
END:VEVENT
END:VCALENDAR
