BEGIN:VCALENDAR
VERSION:2.0
PRODID:-//AudioTheme 2.3.8
BEGIN:VEVENT
UID:urn:uuid:f4434007-587c-4fdd-87e1-f97392a38b52
URL:https://mitchmcvicker.com/concerts/gig-3484/
DTSTART;VALUE=DATE:20000913
SUMMARY:Western Illinois University Wesley Foundation
LOCATION:Western Illinois University Wesley Foundation\, Macomb\, IL
END:VEVENT
END:VCALENDAR
