BEGIN:VCALENDAR
VERSION:2.0
PRODID:-//AudioTheme 2.3.8
BEGIN:VEVENT
UID:urn:uuid:ac8a8e62-740b-4917-9758-1c00ea247f2e
URL:https://mitchmcvicker.com/concerts/gig-3482/
DTSTART;VALUE=DATE:20000911
SUMMARY:Southern Illinois University-Newman Center
LOCATION:Southern Illinois University-Newman Center\, Carbondale\, IL
END:VEVENT
END:VCALENDAR
