BEGIN:VCALENDAR
VERSION:2.0
PRODID:-//AudioTheme 2.3.8
BEGIN:VEVENT
UID:urn:uuid:e321f6f5-8856-4f5c-8195-1aaa0e99667e
URL:https://mitchmcvicker.com/concerts/gig-3480/
DTSTART;VALUE=DATE:20000910
SUMMARY:University of Illinois-Wesley Foundation
LOCATION:University of Illinois-Wesley Foundation\, Urbana\, IL
END:VEVENT
END:VCALENDAR
