BEGIN:VCALENDAR
VERSION:2.0
PRODID:-//AudioTheme 2.3.8
BEGIN:VEVENT
UID:urn:uuid:3e572085-eaf4-4776-a47d-50fcde5bb732
URL:https://mitchmcvicker.com/concerts/gig-3478/
DTSTART;VALUE=DATE:20000910
SUMMARY:New Horizon United Methodist Church
LOCATION:New Horizon United Methodist Church\, Champaign\, IL
END:VEVENT
END:VCALENDAR
