BEGIN:VCALENDAR
VERSION:2.0
PRODID:-//AudioTheme 2.3.8
BEGIN:VEVENT
UID:urn:uuid:82cc98bf-f4dd-489e-8173-eb65a30de97c
URL:https://mitchmcvicker.com/concerts/gig-3477/
DTSTART;VALUE=DATE:20000909
SUMMARY:Second Saturday Sing/Barn Again Farm
LOCATION:Second Saturday Sing/Barn Again Farm\, Elgin\, IL
END:VEVENT
END:VCALENDAR
