BEGIN:VCALENDAR
VERSION:2.0
PRODID:-//AudioTheme 2.3.8
BEGIN:VEVENT
UID:urn:uuid:2fc31d47-53ef-460c-9581-03e5ae021929
URL:https://mitchmcvicker.com/concerts/gig-3475/
DTSTART;VALUE=DATE:20000908
SUMMARY:Main Stage
LOCATION:Main Stage\, Peoria\, IL
END:VEVENT
END:VCALENDAR
