BEGIN:VCALENDAR
VERSION:2.0
PRODID:-//AudioTheme 2.3.8
BEGIN:VEVENT
UID:urn:uuid:933b5d5c-5e57-4edf-a384-e210f5f0181c
URL:https://mitchmcvicker.com/concerts/gig-3473/
DTSTART;VALUE=DATE:20000903
SUMMARY:Church of Faith, Hope, and Love
LOCATION:Church of Faith\, Hope\, and Love\, Kernersville\, NC
END:VEVENT
END:VCALENDAR
