BEGIN:VCALENDAR
VERSION:2.0
PRODID:-//AudioTheme 2.3.8
BEGIN:VEVENT
UID:urn:uuid:8b558ffa-ab04-4d94-82e7-fa9604699b3f
URL:https://mitchmcvicker.com/concerts/gig-3471/
DTSTART;VALUE=DATE:20000902
SUMMARY:Mountain Top Youth Camp Concert
LOCATION:Mountain Top Youth Camp Concert\, Pinnacle\, NC
END:VEVENT
END:VCALENDAR
