BEGIN:VCALENDAR
VERSION:2.0
PRODID:-//AudioTheme 2.3.8
BEGIN:VEVENT
UID:urn:uuid:a28f6452-ea42-4bf7-af33-c144d8866059
URL:https://mitchmcvicker.com/concerts/gig-3469/
DTSTART;VALUE=DATE:20000901
SUMMARY:Osborne Baptist Church
LOCATION:Osborne Baptist Church\, Eden\, NC
END:VEVENT
END:VCALENDAR
