BEGIN:VCALENDAR
VERSION:2.0
PRODID:-//AudioTheme 2.3.8
BEGIN:VEVENT
UID:urn:uuid:c4adb4e7-b649-4485-8c0a-a8780c7a8d97
URL:https://mitchmcvicker.com/concerts/gig-3467/
DTSTART;VALUE=DATE:20000827
SUMMARY:Community Christian Church
LOCATION:Community Christian Church\, Ft Scott\, KS
END:VEVENT
END:VCALENDAR
