BEGIN:VCALENDAR
VERSION:2.0
PRODID:-//AudioTheme 2.3.8
BEGIN:VEVENT
UID:urn:uuid:7f8e34f4-7edb-4915-956c-d2c3c5b3a8fc
URL:https://mitchmcvicker.com/concerts/gig-3465/
DTSTART;VALUE=DATE:20000822
SUMMARY:Concert for Grace University at Mahoney State Park
LOCATION:Concert for Grace University at Mahoney State Park\, Omaha\, NE
END:VEVENT
END:VCALENDAR
