BEGIN:VCALENDAR
VERSION:2.0
PRODID:-//AudioTheme 2.3.8
BEGIN:VEVENT
UID:urn:uuid:46c82c18-9eb3-48f7-9729-acee67f240ee
URL:https://mitchmcvicker.com/concerts/gig-3463/
DTSTART;VALUE=DATE:20000820
SUMMARY:The Elmbrook Church
LOCATION:The Elmbrook Church\, Brookfield\, WI
END:VEVENT
END:VCALENDAR
