BEGIN:VCALENDAR
VERSION:2.0
PRODID:-//AudioTheme 2.3.8
BEGIN:VEVENT
UID:urn:uuid:05ddc022-0c1d-4b09-ae42-e392f0286cbb
URL:https://mitchmcvicker.com/concerts/gig-3461/
DTSTART;VALUE=DATE:20000819
SUMMARY:Lighthouse Ministries
LOCATION:Lighthouse Ministries\, West Bend\, WI
END:VEVENT
END:VCALENDAR
