BEGIN:VCALENDAR
VERSION:2.0
PRODID:-//AudioTheme 2.3.8
BEGIN:VEVENT
UID:urn:uuid:cb913110-0b4e-48d2-bc01-5f7e02be3301
URL:https://mitchmcvicker.com/concerts/gig-3459/
DTSTART;VALUE=DATE:20000818
SUMMARY:Hope Fest 2000
LOCATION:Hope Fest 2000\, Mt Vernon\, WI
END:VEVENT
END:VCALENDAR
