BEGIN:VCALENDAR
VERSION:2.0
PRODID:-//AudioTheme 2.3.8
BEGIN:VEVENT
UID:urn:uuid:a393e031-47d2-4916-be9f-9e0a98d557ad
URL:https://mitchmcvicker.com/concerts/gig-3455/
DTSTART;VALUE=DATE:20000804
SUMMARY:Legacy Fest 2000 at Newman University
LOCATION:Legacy Fest 2000 at Newman University\, Wichita\, KS
END:VEVENT
END:VCALENDAR
