BEGIN:VCALENDAR
VERSION:2.0
PRODID:-//AudioTheme 2.3.8
BEGIN:VEVENT
UID:urn:uuid:f4a6637d-0f8d-4078-8395-53fdc35b9e97
URL:https://mitchmcvicker.com/concerts/gig-3453/
DTSTART;VALUE=DATE:20000802
SUMMARY:Gallup Community Church
LOCATION:Gallup Community Church\, Gallup\, NM
END:VEVENT
END:VCALENDAR
