BEGIN:VCALENDAR
VERSION:2.0
PRODID:-//AudioTheme 2.3.8
BEGIN:VEVENT
UID:urn:uuid:31bfb11a-7831-4c29-baa2-f81741d54249
URL:https://mitchmcvicker.com/concerts/gig-3451/
DTSTART;VALUE=DATE:20000801
SUMMARY:The Way Cafe
LOCATION:The Way Cafe\, Albuquerque\, NM
END:VEVENT
END:VCALENDAR
