BEGIN:VCALENDAR
VERSION:2.0
PRODID:-//AudioTheme 2.3.8
BEGIN:VEVENT
UID:urn:uuid:1843f385-a6e5-4458-9024-557e238fed47
URL:https://mitchmcvicker.com/concerts/gig-3449/
DTSTART;VALUE=DATE:20000731
SUMMARY:Fort Defiance Community Building
LOCATION:Fort Defiance Community Building\, Fort Defiance\, AZ
END:VEVENT
END:VCALENDAR
