BEGIN:VCALENDAR
VERSION:2.0
PRODID:-//AudioTheme 2.3.8
BEGIN:VEVENT
UID:urn:uuid:0b4e9eb2-1d52-4acc-b019-0000cc18484f
URL:https://mitchmcvicker.com/concerts/gig-3447/
DTSTART;VALUE=DATE:20000730
SUMMARY:Victory Life Fellowship
LOCATION:Victory Life Fellowship\, Shiprock\, NM
END:VEVENT
END:VCALENDAR
