BEGIN:VCALENDAR
VERSION:2.0
PRODID:-//AudioTheme 2.3.8
BEGIN:VEVENT
UID:urn:uuid:91e75fbc-878a-4093-864c-5e7af01e576b
URL:https://mitchmcvicker.com/concerts/gig-3445/
DTSTART;VALUE=DATE:20000730
SUMMARY:World Harvest Center
LOCATION:World Harvest Center\, Farmington\, NM
END:VEVENT
END:VCALENDAR
