BEGIN:VCALENDAR
VERSION:2.0
PRODID:-//AudioTheme 2.3.8
BEGIN:VEVENT
UID:urn:uuid:ddd96b6e-b34a-4aad-b44d-89e17b6436ea
URL:https://mitchmcvicker.com/concerts/gig-3443/
DTSTART;VALUE=DATE:20000729
SUMMARY:Rehoboth School
LOCATION:Rehoboth School\, Rehoboth\, NM
END:VEVENT
END:VCALENDAR
