BEGIN:VCALENDAR
VERSION:2.0
PRODID:-//AudioTheme 2.3.8
BEGIN:VEVENT
UID:urn:uuid:5ceba357-208a-40e1-9c19-aac831021d68
URL:https://mitchmcvicker.com/concerts/gig-3441/
DTSTART;VALUE=DATE:20000718
SUMMARY:Kearny County Fair-Kearny County Fairgrounds
LOCATION:Kearny County Fair-Kearny County Fairgrounds\, Lakin\, KS
END:VEVENT
END:VCALENDAR
