BEGIN:VCALENDAR
VERSION:2.0
PRODID:-//AudioTheme 2.3.8
BEGIN:VEVENT
UID:urn:uuid:c0b0e137-34f0-4caf-87af-b3d109417a77
URL:https://mitchmcvicker.com/concerts/gig-3439/
DTSTART;VALUE=DATE:20000705
SUMMARY:Thailand Compassion International Trip- July 5-14
LOCATION:Thailand Compassion International Trip- July 5-14\, Thailand
END:VEVENT
END:VCALENDAR
