BEGIN:VCALENDAR
VERSION:2.0
PRODID:-//AudioTheme 2.3.8
BEGIN:VEVENT
UID:urn:uuid:09d3454e-030e-4331-bb71-1de5d50118d5
URL:https://mitchmcvicker.com/concerts/gig-3437/
DTSTART;VALUE=DATE:20000630
SUMMARY:Living Room Music Cafe
LOCATION:Living Room Music Cafe\, St Paul\, MN
END:VEVENT
END:VCALENDAR
