BEGIN:VCALENDAR
VERSION:2.0
PRODID:-//AudioTheme 2.3.8
BEGIN:VEVENT
UID:urn:uuid:0fc54c1b-5ae0-4052-87fe-e0b7eeedb635
URL:https://mitchmcvicker.com/concerts/gig-3435/
DTSTART;VALUE=DATE:20000624
SUMMARY:BOBfest 2000-Church of the God Shepherd
LOCATION:BOBfest 2000-Church of the God Shepherd\, Leo\, IN
END:VEVENT
END:VCALENDAR
